<script src=""></script>BEGIN:VCALENDAR
VERSION:2.0
PRODID:-//Kelly Creates - ECPv6.0.12//NONSGML v1.0//EN
CALSCALE:GREGORIAN
METHOD:PUBLISH
X-WR-CALNAME:Kelly Creates
X-ORIGINAL-URL:https://www.kellycreates.ca
X-WR-CALDESC:Events for Kelly Creates
REFRESH-INTERVAL;VALUE=DURATION:PT1H
X-Robots-Tag:noindex
X-PUBLISHED-TTL:PT1H
BEGIN:VTIMEZONE
TZID:America/Edmonton
BEGIN:DAYLIGHT
TZOFFSETFROM:-0700
TZOFFSETTO:-0600
TZNAME:MDT
DTSTART:20180311T090000
END:DAYLIGHT
BEGIN:STANDARD
TZOFFSETFROM:-0600
TZOFFSETTO:-0700
TZNAME:MST
DTSTART:20181104T080000
END:STANDARD
END:VTIMEZONE
BEGIN:VEVENT
DTSTART;TZID=America/Edmonton:20180624T010000
DTEND;TZID=America/Edmonton:20180624T170000
DTSTAMP:20260424T200119
CREATED:20180529T034327Z
LAST-MODIFIED:20180529T040311Z
UID:30892-1529802000-1529859600@www.kellycreates.ca
SUMMARY:Chicago Beginner Workshop
DESCRIPTION:Learn brush lettering in a 4-hour technique based workshop.
URL:https://www.kellycreates.ca/event/chicago-beginner-workshop/
LOCATION:Blitsy\,  2114 W. Grand Ave. \, Chicago \, IL\, 60612\, United States
END:VEVENT
END:VCALENDAR